BEGIN:VCALENDAR
VERSION:2.0
PRODID:-//jEvents 2.0 for Joomla//EN
CALSCALE:GREGORIAN
METHOD:PUBLISH
BEGIN:VEVENT
UID:20190811T122756Z-1@WZ.fritz.box
CATEGORIES:2.
CREATED:20190811T143251
SUMMARY:TTF Schönaich II : Tischtennis Mötzingen III
DESCRIPTION:
DTSTAMP:20260422T204047
DTSTART:20191012T180000
DTEND:20191012T210000
SEQUENCE:0
TRANSP:OPAQUE
END:VEVENT
END:VCALENDAR