BEGIN:VCALENDAR
VERSION:2.0
PRODID:-//jEvents 2.0 for Joomla//EN
CALSCALE:GREGORIAN
METHOD:PUBLISH
BEGIN:VEVENT
UID:20190811T122755Z-1@WZ.fritz.box
CATEGORIES:2.
CREATED:20190811T143251
SUMMARY:TTF Schönaich II : FSV Deufringen III
DESCRIPTION:
DTSTAMP:20260423T003427
DTSTART:20191005T180000
DTEND:20191005T210000
SEQUENCE:0
TRANSP:OPAQUE
END:VEVENT
END:VCALENDAR