BEGIN:VCALENDAR
VERSION:2.0
PRODID:-//jEvents 2.0 for Joomla//EN
CALSCALE:GREGORIAN
METHOD:PUBLISH
BEGIN:VEVENT
UID:20181231T144738Z-1@WZ.fritz.box
CATEGORIES:S
CREATED:20181231T154847
SUMMARY:TTF Schönaich I : VfL Sindelfingen I
DESCRIPTION:
DTSTAMP:20260422T183742
DTSTART:20190124T193000
DTEND:20190124T223000
SEQUENCE:0
TRANSP:OPAQUE
END:VEVENT
END:VCALENDAR