BEGIN:VCALENDAR
VERSION:2.0
PRODID:-//jEvents 2.0 for Joomla//EN
CALSCALE:GREGORIAN
METHOD:PUBLISH
BEGIN:VEVENT
UID:20181229T154100Z-1@WZ.fritz.box
CATEGORIES:2.
CREATED:20181231T153010
SUMMARY:SpVgg Aidlingen II : TTF Schönaich II
DESCRIPTION:
DTSTAMP:20260422T184824
DTSTART:20190126T183000
DTEND:20190126T213000
SEQUENCE:0
TRANSP:OPAQUE
END:VEVENT
END:VCALENDAR