BEGIN:VCALENDAR
VERSION:2.0
PRODID:-//jEvents 2.0 for Joomla//EN
CALSCALE:GREGORIAN
METHOD:PUBLISH
BEGIN:VEVENT
UID:260a4c7b7aebfa49c8ea82900b769290
CATEGORIES:Allg
CREATED:20180323T123704
SUMMARY:Vereinsmeisterschaften 2018 Senioren
DESCRIPTION:
DTSTAMP:20260422T184519
DTSTART:20190117T190000
SEQUENCE:0
TRANSP:OPAQUE
END:VEVENT
END:VCALENDAR