BEGIN:VCALENDAR
VERSION:2.0
PRODID:-//jEvents 2.0 for Joomla//EN
CALSCALE:GREGORIAN
METHOD:PUBLISH
BEGIN:VEVENT
UID:61f5f150f7eec0300967ac7e704a0941
CATEGORIES:Allg
CREATED:20180323T123543
SUMMARY:Vereinsmeisterschaften 2018 Einzel
DESCRIPTION:
DTSTAMP:20260422T183803
DTSTART:20190110T183000
SEQUENCE:0
TRANSP:OPAQUE
END:VEVENT
END:VCALENDAR